BEGIN:VCALENDAR
VERSION:2.0
PRODID:icalendar-ruby
CALSCALE:GREGORIAN
METHOD:PUBLISH
BEGIN:VEVENT
DTSTAMP:20260422T121502Z
UID:21-235099@hopecityhighlands.com
DTSTART:20261101T160000Z
DTEND:20261101T180000Z
CLASS:PUBLIC
CREATED:20260422T074923
DESCRIPTION:
LAST-MODIFIED:20260422T074923
LOCATION:1700 Simpson Ave Sebring\, FL 33870
SUMMARY:Sunday Worship Service
URL;VALUE=URI:https://hopecityhighlands.com/events/sunday-worship-service/2
 026-11-01
ATTACH;FILENAME=worship-with-us1.jpg;FMTTYPE=image/jpeg:https://dq5pwpg1q8r
 u0.cloudfront.net/2024/01/01/15/18/14/880550e0-3ecf-4db1-9f15-4442e1a1b3bb
 /worship-with-us1.jpg
END:VEVENT
END:VCALENDAR
