BEGIN:VCALENDAR
VERSION:2.0
PRODID:icalendar-ruby
CALSCALE:GREGORIAN
METHOD:PUBLISH
BEGIN:VEVENT
DTSTAMP:20260422T085009Z
UID:21-234951@hopecityhighlands.com
DTSTART:20261018T150000Z
DTEND:20261018T170000Z
CLASS:PUBLIC
CREATED:20260421T204554
DESCRIPTION:
LAST-MODIFIED:20260421T204554
LOCATION:1700 Simpson Ave Sebring\, FL 33870
SUMMARY:Sunday Worship Service
URL;VALUE=URI:https://hopecityhighlands.com/events/sunday-worship-service/2
 026-10-18
ATTACH;FILENAME=worship-with-us1.jpg;FMTTYPE=image/jpeg:https://dq5pwpg1q8r
 u0.cloudfront.net/2024/01/01/15/18/14/880550e0-3ecf-4db1-9f15-4442e1a1b3bb
 /worship-with-us1.jpg
END:VEVENT
END:VCALENDAR
