BEGIN:VCALENDAR
VERSION:2.0
PRODID:icalendar-ruby
CALSCALE:GREGORIAN
METHOD:PUBLISH
BEGIN:VEVENT
DTSTAMP:20260420T064015Z
UID:21-233051@hopecityhighlands.com
DTSTART:20261011T150000Z
DTEND:20261011T170000Z
CLASS:PUBLIC
CREATED:20260419T230551
DESCRIPTION:
LAST-MODIFIED:20260419T230551
LOCATION:1700 Simpson Ave Sebring\, FL 33870
SUMMARY:Sunday Worship Service
URL;VALUE=URI:https://hopecityhighlands.com/events/sunday-worship-service/2
 026-10-11
ATTACH;FILENAME=worship-with-us1.jpg;FMTTYPE=image/jpeg:https://dq5pwpg1q8r
 u0.cloudfront.net/2024/01/01/15/18/14/880550e0-3ecf-4db1-9f15-4442e1a1b3bb
 /worship-with-us1.jpg
END:VEVENT
END:VCALENDAR
